BEGIN:VCALENDAR
VERSION:2.0
PRODID:-//Turnverein Taufkirchen  - ECPv6.15.20//NONSGML v1.0//EN
CALSCALE:GREGORIAN
METHOD:PUBLISH
X-WR-CALNAME:Turnverein Taufkirchen 
X-ORIGINAL-URL:https://turnverein-taufkirchen.at
X-WR-CALDESC:Veranstaltungen für Turnverein Taufkirchen 
REFRESH-INTERVAL;VALUE=DURATION:PT1H
X-Robots-Tag:noindex
X-PUBLISHED-TTL:PT1H
BEGIN:VTIMEZONE
TZID:Europe/Vienna
BEGIN:DAYLIGHT
TZOFFSETFROM:+0100
TZOFFSETTO:+0200
TZNAME:CEST
DTSTART:20250330T010000
END:DAYLIGHT
BEGIN:STANDARD
TZOFFSETFROM:+0200
TZOFFSETTO:+0100
TZNAME:CET
DTSTART:20251026T010000
END:STANDARD
BEGIN:DAYLIGHT
TZOFFSETFROM:+0100
TZOFFSETTO:+0200
TZNAME:CEST
DTSTART:20260329T010000
END:DAYLIGHT
BEGIN:STANDARD
TZOFFSETFROM:+0200
TZOFFSETTO:+0100
TZNAME:CET
DTSTART:20261025T010000
END:STANDARD
BEGIN:DAYLIGHT
TZOFFSETFROM:+0100
TZOFFSETTO:+0200
TZNAME:CEST
DTSTART:20270328T010000
END:DAYLIGHT
BEGIN:STANDARD
TZOFFSETFROM:+0200
TZOFFSETTO:+0100
TZNAME:CET
DTSTART:20271031T010000
END:STANDARD
END:VTIMEZONE
BEGIN:VEVENT
DTSTART;TZID=Europe/Vienna:20260425T080000
DTEND;TZID=Europe/Vienna:20260425T170000
DTSTAMP:20260424T142043
CREATED:20260212T181038Z
LAST-MODIFIED:20260212T181038Z
UID:2318-1777104000-1777136400@turnverein-taufkirchen.at
SUMMARY:Landesmeisterschaften Turn 10 Perg
DESCRIPTION:
URL:https://turnverein-taufkirchen.at/event/landesmeisterschaften-turn-10-perg/
END:VEVENT
BEGIN:VEVENT
DTSTART;VALUE=DATE:20260604
DTEND;VALUE=DATE:20260607
DTSTAMP:20260424T142043
CREATED:20260212T180945Z
LAST-MODIFIED:20260212T180945Z
UID:2315-1780531200-1780790399@turnverein-taufkirchen.at
SUMMARY:Vereinsjugendlager
DESCRIPTION:Nur bei Schlechtwetter in der Turnhalle
URL:https://turnverein-taufkirchen.at/event/vereinsjugendlager/
END:VEVENT
BEGIN:VEVENT
DTSTART;TZID=Europe/Vienna:20260613T080000
DTEND;TZID=Europe/Vienna:20260613T170000
DTSTAMP:20260424T142043
CREATED:20260212T181125Z
LAST-MODIFIED:20260212T181125Z
UID:2321-1781337600-1781370000@turnverein-taufkirchen.at
SUMMARY:ÖTB Bundesmeisterschaften Turn 10 Kapfenberg
DESCRIPTION:
URL:https://turnverein-taufkirchen.at/event/oetb-bundesmeisterschaften-turn-10-kapfenberg/
END:VEVENT
BEGIN:VEVENT
DTSTART;TZID=Europe/Vienna:20260620T180000
DTEND;TZID=Europe/Vienna:20260620T220000
DTSTAMP:20260424T142043
CREATED:20260212T181209Z
LAST-MODIFIED:20260212T181236Z
UID:2324-1781978400-1781992800@turnverein-taufkirchen.at
SUMMARY:Sonnwendfeier
DESCRIPTION:
URL:https://turnverein-taufkirchen.at/event/sonnwendfeier-2/
END:VEVENT
BEGIN:VEVENT
DTSTART;VALUE=DATE:20260627
DTEND;VALUE=DATE:20260628
DTSTAMP:20260424T142043
CREATED:20260212T181441Z
LAST-MODIFIED:20260212T181441Z
UID:2327-1782518400-1782604799@turnverein-taufkirchen.at
SUMMARY:Pram.At.Race
DESCRIPTION:
URL:https://turnverein-taufkirchen.at/event/pram-at-race-2/
END:VEVENT
BEGIN:VEVENT
DTSTART;VALUE=DATE:20260812
DTEND;VALUE=DATE:20260818
DTSTAMP:20260424T142043
CREATED:20260212T181716Z
LAST-MODIFIED:20260212T181716Z
UID:2331-1786492800-1787011199@turnverein-taufkirchen.at
SUMMARY:Jahnwanderung
DESCRIPTION:Dieses Jahr haben wir nur eine kurze Strecke\, bis nach Münzkirchen vor uns.
URL:https://turnverein-taufkirchen.at/event/jahnwanderung-2/
END:VEVENT
BEGIN:VEVENT
DTSTART;VALUE=DATE:20260911
DTEND;VALUE=DATE:20260914
DTSTAMP:20260424T142043
CREATED:20260212T182158Z
LAST-MODIFIED:20260212T182158Z
UID:2346-1789084800-1789343999@turnverein-taufkirchen.at
SUMMARY:Spartan Trifecta Kaprun
DESCRIPTION:
URL:https://turnverein-taufkirchen.at/event/spartan-trifecta-kaprun/
END:VEVENT
BEGIN:VEVENT
DTSTART;VALUE=DATE:20260914
DTEND;VALUE=DATE:20260915
DTSTAMP:20260424T142043
CREATED:20260212T181825Z
LAST-MODIFIED:20260212T181825Z
UID:2334-1789344000-1789430399@turnverein-taufkirchen.at
SUMMARY:Anturnen
DESCRIPTION:Das Anturnen wird wieder in den einzelnen Gruppen stattfinden und startet nur am 14.09.
URL:https://turnverein-taufkirchen.at/event/anturnen-3/
END:VEVENT
BEGIN:VEVENT
DTSTART;VALUE=DATE:20261003
DTEND;VALUE=DATE:20261004
DTSTAMP:20260424T142043
CREATED:20260212T181921Z
LAST-MODIFIED:20260212T181921Z
UID:2337-1790985600-1791071999@turnverein-taufkirchen.at
SUMMARY:Bewegungstag in Wels
DESCRIPTION:
URL:https://turnverein-taufkirchen.at/event/bewegungstag-in-wels/
END:VEVENT
BEGIN:VEVENT
DTSTART;TZID=Europe/Vienna:20261121T190000
DTEND;TZID=Europe/Vienna:20261121T220000
DTSTAMP:20260424T142043
CREATED:20260212T182012Z
LAST-MODIFIED:20260212T182012Z
UID:2340-1795287600-1795298400@turnverein-taufkirchen.at
SUMMARY:Schauturnen
DESCRIPTION:
URL:https://turnverein-taufkirchen.at/event/schauturnen/
END:VEVENT
BEGIN:VEVENT
DTSTART;TZID=Europe/Vienna:20261231T160000
DTEND;TZID=Europe/Vienna:20261231T193000
DTSTAMP:20260424T142043
CREATED:20260212T182106Z
LAST-MODIFIED:20260212T182106Z
UID:2343-1798732800-1798745400@turnverein-taufkirchen.at
SUMMARY:Silvesterstandl
DESCRIPTION:
URL:https://turnverein-taufkirchen.at/event/silvesterstandl-3/
END:VEVENT
END:VCALENDAR